BEGIN:VCALENDAR
VERSION:2.0
PRODID:-//Stadtgeschichte München//DE
CALSCALE:GREGORIAN
BEGIN:VEVENT
UID:24904@stadtgeschichte-muenchen.de
SUMMARY:Der Isar-Auwald zwischen Unterföhring und Ismaning
DESCRIPTION:&lt;p&gt;Der ortsgeschichtliche Weg bietet Interessantes und Kurioses über Unterföhring, ein Naturlehrpfad Spannendes über Lebensräume von Tieren. Am Unterföhringer See vorbei geht es am Isarufer entlang zu Hypoberg und nach Ismaning. Kurze Wegabschnitte können steil und schlammig sein, daher sind Wanderstöcke unbedingt empfohlen, außerdem festes Schuhwerk und wetterangepaßte Kleidung. Falls vorhanden Fernglas. 10,5 km, Gehzeit 3 Std. Fällt bei Sturm oder Regen aus.&lt;/p&gt;
DTSTART:20241015T090000
DTEND:20241015T150000
LOCATION:München S-Bahnstation Unterföhring Nordteil des Glasfoyers
ORGANIZER:DGB-Bildungswerk Bayern e.V. Region München
END:VEVENT
END:VCALENDAR