BEGIN:VCALENDAR
VERSION:2.0
PRODID:-//Stadtgeschichte München//DE
CALSCALE:GREGORIAN
BEGIN:VEVENT
UID:24913@stadtgeschichte-muenchen.de
SUMMARY:Spurensuche im Bayerischen Wirtschaftsarchiv
DESCRIPTION:&lt;p&gt;Tauchen Sie ein in die bayerische Wirtschaftsgeschichte! Entdecken Sie beeindruckende Fotos, interessante Objekte und bedeutsames Schriftgut aus einer Vielzahl bayerischer Traditionsunternehmen wie etwa Krauss-Maffei, Rodenstock oder Löwenbräu.&lt;br&gt;Das Bayerische Wirtschaftsarchiv öffnet für Sie seine streng gehüteten Magazine und präsentiert wertvolle Originale. Seien Sie gespannt!&lt;/p&gt;
DTSTART:20241028T160000
DTEND:20241028T173000
LOCATION:Orleansstraße 10-12, Hinterhof im IHK-Campus, im Foyer
ORGANIZER:DGB-Bildungswerk Bayern e.V. Region München
END:VEVENT
END:VCALENDAR