BEGIN:VCALENDAR
VERSION:2.0
PRODID:-//Stadtgeschichte München//DE
CALSCALE:GREGORIAN
BEGIN:VEVENT
UID:24917@stadtgeschichte-muenchen.de
SUMMARY:Vorstellung Kalender Industriekultur in München 2025
DESCRIPTION:&lt;p&gt;&lt;i&gt;Vorstellung Kalender Industriekultur in München 2025 Zwischen Abriss und Bewahren&amp;nbsp;&lt;/i&gt;&lt;/p&gt;&lt;p&gt;&lt;i&gt;und Bekanntgabe des Erhalts des Georg-Agricola-Preises 2024 für Industriekultur der Georg-Agricola-Gesellschaft für Technikgeschichte und Industriekultur e.V.&lt;/i&gt;&lt;/p&gt;&lt;p&gt;&lt;i&gt;am Mittwoch 30. Oktober 2024, 11 Uhr&lt;/i&gt;&lt;/p&gt;&lt;p&gt;&amp;nbsp;mit Franz Schiermeier vom &amp;nbsp;Franz-Schiermeier Verlag, Anita Kuisle, Büro für Technikgeschichte, Dr. Bernhard Schossig,&amp;nbsp;Simone Burger, 1. Vorsitzende Archiv der Münchner Arbeiterbewegung e.V.,&amp;nbsp; Prof. Dr. Ludwig Eiber, 2. Vorsitzender &amp;nbsp;&lt;/p&gt;&lt;p&gt;&lt;br&gt;&amp;nbsp;&lt;/p&gt;
DTSTART:20241030T110000
DTEND:20241030T120000
LOCATION:Ausstellung Fat Cat (ehem. Gasteig)  Kellerstr. 8a, 81667 München  1. Stock Glashalle Ost   
ORGANIZER:Archiv der Münchner Arbeiterbewegung e.V.
END:VEVENT
END:VCALENDAR