BEGIN:VCALENDAR
VERSION:2.0
PRODID:-//Stadtgeschichte München//DE
CALSCALE:GREGORIAN
BEGIN:VEVENT
UID:24926@stadtgeschichte-muenchen.de
SUMMARY:AugenBlicke
DESCRIPTION:&lt;p&gt;Am 6. November eröffnen wir die Installation &lt;i&gt;AugenBlicke&lt;/i&gt; von Georg Soanca-Pollak, die bis 1. Dezember 2024 zu sehen sein wird.&lt;/p&gt;&lt;p&gt;Die Kunstinstallation erinnert an Kinder aus jüdischen Familien, die zwischen 1933 und 1945 in München lebten. Die meisten von ihnen wurden von den Nationalsozialisten deportiert und ermordet. Ihre Portraitaufnahmen sind Teil einer Gestaltung an der Fassade und im Innenraum des NS-Dokumentationszentrums.&lt;/p&gt;&lt;p&gt;&lt;strong&gt;Begrüßung&lt;/strong&gt;&lt;br&gt;Mirjam Zadoff&lt;br&gt;Direktorin des NS-Dokumentationszentrums München&lt;/p&gt;&lt;p&gt;&lt;strong&gt;Grußworte&lt;/strong&gt;&lt;br&gt;Florian Roth, Stadtrat der Landeshauptstadt München in Vertretung des Oberbürgermeisters&lt;br&gt;Charlotte Knobloch, Präsidentin der Israelitischen Kultusgemeinde München und Oberbayern&lt;/p&gt;&lt;p&gt;&lt;strong&gt;Über die Kunstinstallation&lt;/strong&gt;&lt;br&gt;Andreas Heusler, Public History, Kulturreferat der Landeshauptstadt München&lt;/p&gt;
DTSTART:20241106T190000
DTEND:20241106T203000
LOCATION:NS-Dokumentationszentrum München
ORGANIZER:NS-Dokumentationszentrum München
END:VEVENT
END:VCALENDAR