BEGIN:VCALENDAR
VERSION:2.0
PRODID:-//Stadtgeschichte München//DE
CALSCALE:GREGORIAN
BEGIN:VEVENT
UID:24934@stadtgeschichte-muenchen.de
SUMMARY:Burgen zwischen Donau und Alpen und ihre Namen
DESCRIPTION:
DTSTART:20241108T180000
DTEND:20241108T193000
LOCATION:Kulturraum Feldmoching im Gemeindehaus, Josef-Frankl-Str. 55, 1. Stock / Ecke Feldmochinger Str., 80995 München
ORGANIZER:Verband für Orts- und Flurnamenforschung in Bayern e. V.
END:VEVENT
END:VCALENDAR