BEGIN:VCALENDAR
VERSION:2.0
PRODID:-//Stadtgeschichte München//DE
CALSCALE:GREGORIAN
BEGIN:VEVENT
UID:24935@stadtgeschichte-muenchen.de
SUMMARY:Siedlungsgeschichte im Münchner Raum von der Bronzezeit bis zum Mittelalter
DESCRIPTION:&lt;p&gt;In den letzten Jahren wurden im Raum München, besonders in Feldmoching, wichtige archä­ologische Funde gemacht, die, in Zusammenhang mit Namen, ein umfassenderes Bild der Siedlungsgeschichte vermitteln.&lt;/p&gt;
DTSTART:20241206T180000
DTEND:20241206T193000
LOCATION:Kulturraum Feldmoching im Gemeindehaus, Josef-Frankl-Str. 55, 1. Stock / Ecke Feldmochinger Str., 80995 München
ORGANIZER:Verband für Orts- und Flurnamenforschung in Bayern e. V.
END:VEVENT
END:VCALENDAR