BEGIN:VCALENDAR
VERSION:2.0
PRODID:-//Stadtgeschichte München//DE
CALSCALE:GREGORIAN
BEGIN:VEVENT
UID:24952@stadtgeschichte-muenchen.de
SUMMARY:Lesung mit fabelhaften Münchner Kurzgeschichten  
DESCRIPTION:&lt;p&gt;Ein Witwer, der sich in einer heißen Sommernacht auf die Suche nach einem Leberkäs begibt, ein Obdachloser, der Führungen unter seiner herrschaftlichen Brücke anbietet, eine Schriftstellerin, die ihr Buch in einem Café aussetzt: Die Erzählungen im Kurzgeschichtenband „Isarrauschen“ überraschen, gehen ans Herz und zeugen von der Liebe der Autorin Diana Hillebrand zu ihrer Wahlheimat München.&lt;/p&gt;
DTSTART:20241116T190000
DTEND:20241116T203000
LOCATION:Großer Pfarrsaal St. Michael Baumkirchner Straße 26 81673 München
ORGANIZER:Volk Verlag
END:VEVENT
END:VCALENDAR