BEGIN:VCALENDAR
VERSION:2.0
PRODID:-//Stadtgeschichte München//DE
CALSCALE:GREGORIAN
BEGIN:VEVENT
UID:24956@stadtgeschichte-muenchen.de
SUMMARY:Off Limits, Zutritt verboten!
DESCRIPTION:&lt;ul&gt;&lt;li&gt;19:00 Uhr: &lt;strong&gt;Carolyn Breuer und Band&lt;/strong&gt;&lt;/li&gt;&lt;li&gt;Ca. 19:15 Uhr:&lt;strong&gt; Begrüßung durch den Kulturreferenten der Landeshauptstadt München, Anton Biebl&lt;/strong&gt;&lt;/li&gt;&lt;li&gt;Ca. 19:30 Uhr:&lt;strong&gt; Einführung in die Ausstellung durch Hermann Wilhelm mit Mitschnitten aus Original-AFN-Sendungen aus den 1950er-Jahren&lt;/strong&gt;&lt;/li&gt;&lt;li&gt;Anschließend:&lt;strong&gt; Carolyn Breuer und Band&lt;/strong&gt;&lt;br&gt;&amp;nbsp;&lt;/li&gt;&lt;li&gt;20:30 Uhr im KiM-Kino im Einstein:&lt;br&gt;&lt;strong&gt;“Ruinenschleicher und Schachterleis”&lt;/strong&gt;&lt;br&gt;Ein Film über die Münchner Nachkriegsjahre von Michael von Ferrari, Angelika Wimbauer und Lutz Eigel. Mit einer Einführung durch Michael von Ferrari&lt;/li&gt;&lt;/ul&gt;
DTSTART:20241115T190000
DTEND:20241115T210000
LOCATION:Kulturzentrum Einstein, Einsteinstraße 42
ORGANIZER:Haidhausen Museum
END:VEVENT
END:VCALENDAR