BEGIN:VCALENDAR
VERSION:2.0
PRODID:-//Stadtgeschichte München//DE
CALSCALE:GREGORIAN
BEGIN:VEVENT
UID:24964@stadtgeschichte-muenchen.de
SUMMARY:Fluchtpunkt 1945: Ein Dorf philosophiert
DESCRIPTION:&lt;p&gt;Die Künstlerin Christiane Huber geht in ihrem Projekt einem jahrzehntelang verschwiegenen Gewaltakt auf den Grund, der in der Nachkriegszeit in einem Dorf bei Altötting stattgefunden hat. Über partizipative Formate, in Gesprächen mit Zeitzeug•innen sowie in einem Theaterstück wird eine Zeit untersucht, in der Zwangsarbeiter•innen vorwiegend aus Polen oder der Ukraine die Arbeit auf den Höfen verrichten mussten. Sichtbar werden Strukturen, die nicht nur in der Vergangenheit Mechanismen der Verdrängung, der Beschönigung oder der Verschleierung hervorgebracht haben. Was können künstlerische Ansätze im Umgang mit Erinnerungen beitragen?&lt;/p&gt;
DTSTART:20250121T121500
DTEND:20250121T134500
LOCATION:Ludwig-Maximilians-Universität, Oettingenstraße 67, Raum 155
ORGANIZER:Institut für Empirische Kulturwissenschaft und Europäische Ethnologie
END:VEVENT
END:VCALENDAR