BEGIN:VCALENDAR
VERSION:2.0
PRODID:-//Stadtgeschichte München//DE
CALSCALE:GREGORIAN
BEGIN:VEVENT
UID:24974@stadtgeschichte-muenchen.de
SUMMARY:Das Deutsche Museum zwischen Zerstörung und Wiederaufbau. 
DESCRIPTION:&lt;p&gt;Der erneute Aufbau des Deutschen Museums begann unmittelbar nach Kriegsende mit dem Kongress-Saal als Veranstaltungsort für München. Im Bibliotheksgebäude wurde im Februar 1946 die UNRRA-Universität eröffnet. In dem Vortrag wird die Museumsgeschichte mit Originaldokumenten und Fotografien erläutert.&lt;/p&gt;
DTSTART:20250218T180000
DTEND:20250218T190000
LOCATION:Archiv des Deutschen Museums, Bibliotheksgebäude
ORGANIZER:Deutsches Museum
END:VEVENT
END:VCALENDAR