BEGIN:VCALENDAR
VERSION:2.0
PRODID:-//Stadtgeschichte München//DE
CALSCALE:GREGORIAN
BEGIN:VEVENT
UID:24983@stadtgeschichte-muenchen.de
SUMMARY:Feldafing Displaced – zwischen Hölle und Normalität
DESCRIPTION:&lt;p&gt;Süddeutschland war nach Kriegende ein Zentrum der Sche’erit Hapleta (hebr.: Rest der Geretteten). Im kleinen Dorf Feldafing am Starnberger See wurden Überlebende der Todeszüge und Todesmärsche als Displaced Persons untergebracht; hier lebten bald etwa 6.000 von ihnen. Marita Krauss und Erich Kasberger stellen ihre Recherchen zu Feldafing vor und erläutern die Sichtweisen der Displaced Persons auf die Feldafinger und umgekehrt.&lt;/p&gt;
DTSTART:20250318T190000
DTEND:20250318T203000
LOCATION:Jüdisches Museum Münche
ORGANIZER:Jüdisches Museum München
END:VEVENT
END:VCALENDAR