BEGIN:VCALENDAR
VERSION:2.0
PRODID:-//Stadtgeschichte München//DE
CALSCALE:GREGORIAN
BEGIN:VEVENT
UID:24990@stadtgeschichte-muenchen.de
SUMMARY:Erziehung zur Demokratie?
DESCRIPTION:
DTSTART:20250403T190000
DTEND:20250403T203000
LOCATION:Münchner Volkshochschule Hadern,Guardinistraße 90
ORGANIZER:MVHS
END:VEVENT
END:VCALENDAR