BEGIN:VCALENDAR
VERSION:2.0
PRODID:-//Stadtgeschichte München//DE
CALSCALE:GREGORIAN
BEGIN:VEVENT
UID:24992@stadtgeschichte-muenchen.de
SUMMARY:Stadtleuchten
DESCRIPTION:&lt;p&gt;Die Veranstaltung untersucht, wie Migrant*innen seit der Nachkriegszeit zur Entstehung der neu geformten Münchner Gesellschaft beigetragen haben. Mit Vorträgen, Live-Musik und literarischen Zitaten.&lt;/p&gt;
DTSTART:20250411T190000
DTEND:20250411T213000
LOCATION:Münchner Volkshochschule in Ramersdorf, Claudius-Keller-Str. 7
ORGANIZER:MVHS
END:VEVENT
END:VCALENDAR