BEGIN:VCALENDAR
VERSION:2.0
PRODID:-//Stadtgeschichte München//DE
CALSCALE:GREGORIAN
BEGIN:VEVENT
UID:24994@stadtgeschichte-muenchen.de
SUMMARY:BEFREIT – Und dann? 
DESCRIPTION:&lt;p&gt;Die Geschwister Hans und Maria Leipelt, evangelisch erzogen, erlebten 1938 die brutale Verfolgung ihrer jüdischen Angehörigen. Mit Gleichgesinnten leisteten sie in München und Hamburg Widerstand, verbreiteten auch Flugblätter der Widerstandsgruppe Weiße Rose. Hans Leipelt wurde am 29. Januar 1945 in München hingerichtet. US-Truppen befreiten Maria Leipelt am 15. April 1945.&lt;/p&gt;
DTSTART:20250426T140000
DTEND:20250426T153000
LOCATION:DenkStätte Weiße Rose Hauptgebäude der Ludwig-Maximilians-Universität München
ORGANIZER:DenkStätte Weiße Rose
END:VEVENT
END:VCALENDAR