BEGIN:VCALENDAR
VERSION:2.0
PRODID:-//Stadtgeschichte München//DE
CALSCALE:GREGORIAN
BEGIN:VEVENT
UID:250@stadtgeschichte-muenchen.de
SUMMARY:„Ei wie schmeckt der Coffee süße\"
DESCRIPTION:Mit Besuch der Sammlung Cafe Luitpold
DTSTART:20110526T170000
DTEND:20110526T000000
LOCATION:Fischbrunnen am Marienplatz
ORGANIZER:Münchner Bildungswerk e.V.
END:VEVENT
END:VCALENDAR