BEGIN:VCALENDAR
VERSION:2.0
PRODID:-//Stadtgeschichte München//DE
CALSCALE:GREGORIAN
BEGIN:VEVENT
UID:25010@stadtgeschichte-muenchen.de
SUMMARY:Hüter des Freistaats
DESCRIPTION:&lt;p&gt;Die Bayerische Staatskanzlei entwickelte sich nach 1945 rasch zur Schaltzentrale der Landespolitik. Im Umgang mit möglicher NS-Belastung ihres Personals verfolgte sie das Ziel, einerseits erfahrene Beamte zu gewinnen und zugleich den bayerischen Staat – formal – von der NS-Zeit abzugrenzen. Ihre Politik stand ganz im Zeichen der Konsolidierung des bayerischen Staats.&lt;/p&gt;
DTSTART:20250508T180000
DTEND:20250508T193000
LOCATION:
ORGANIZER:MVHS
END:VEVENT
END:VCALENDAR