BEGIN:VCALENDAR
VERSION:2.0
PRODID:-//Stadtgeschichte München//DE
CALSCALE:GREGORIAN
BEGIN:VEVENT
UID:25013@stadtgeschichte-muenchen.de
SUMMARY:Stunde Null?
DESCRIPTION:&lt;p&gt;Aus der umfangreichen Überlieferung des Stadtarchivs zur Nachkriegszeit werden beispielhaft Bestände und Quellen präsentiert, städtische Verwaltungsunterlagen wie privates Schriftgut. Sie dokumentieren die Not im zerstörten München, den Wiederaufbau, aber auch politische und gesellschaftliche Kontinuitäten über die „Stunde Null“ hinaus.&lt;/p&gt;
DTSTART:20250515T183000
DTEND:20250515T193000
LOCATION:Stadtarchiv, Winzererstraße 68, 80797 München, Rotunde
ORGANIZER:Stadtarchiv München
END:VEVENT
END:VCALENDAR