BEGIN:VCALENDAR
VERSION:2.0
PRODID:-//Stadtgeschichte München//DE
CALSCALE:GREGORIAN
BEGIN:VEVENT
UID:25017@stadtgeschichte-muenchen.de
SUMMARY:Amerika in München:
DESCRIPTION:&lt;p&gt;Einem kurzen Vortrag zur historischen und aktuellen Präsenz der USA in München folgt ein moderiertes Gespräch unter Expert*innen und Zeitzeug*innen, das Einblicke in verschiedene transatlantische Institutionen und Kapitel der deutsch-amerikanischen Geschichte bietet. Im Anschluss besteht die Möglichkeit zur Diskussion.&lt;/p&gt;
DTSTART:20250523T190000
DTEND:20250523T203000
LOCATION:
ORGANIZER:Amerika-Institut der Ludwig-Maximilians-Unversität München
END:VEVENT
END:VCALENDAR