BEGIN:VCALENDAR
VERSION:2.0
PRODID:-//Stadtgeschichte München//DE
CALSCALE:GREGORIAN
BEGIN:VEVENT
UID:2504@stadtgeschichte-muenchen.de
SUMMARY:Das Rätsel des blauen Diamanten
DESCRIPTION:&lt;div&gt;Der &amp;bdquo;blaue Wittelsbacher&amp;quot;, einer der wertvollsten Diamanten der Welt und Hauptstein der bayerischen Krone, ist verschwunden. K&amp;ouml;nnen wir den Auftrag des K&amp;ouml;nigs erf&amp;uuml;llen und ihn wiederfinden? Bei unserer Zeitreise leiten uns geheimnisvolle Hinweise durch die Stadt.&lt;/div&gt; &lt;div&gt;&amp;nbsp;&lt;/div&gt; &lt;div&gt;Alterempfehlung: ca. 5 - 12 Jahre&lt;/div&gt; &lt;div&gt;Kinder nur in Begleitung von Erwachsenen&lt;/div&gt;
DTSTART:20120805T140000
DTEND:20120805T000000
LOCATION:Vor dem Hauptportal derTheatinerkirche
ORGANIZER:STATTreisen München e.V.
END:VEVENT
END:VCALENDAR