BEGIN:VCALENDAR
VERSION:2.0
PRODID:-//Stadtgeschichte München//DE
CALSCALE:GREGORIAN
BEGIN:VEVENT
UID:25041@stadtgeschichte-muenchen.de
SUMMARY:Natalka Sniadanko &amp; Tanja Dückers
DESCRIPTION:&lt;p&gt;Die 1973 in der Ukraine geborene Schriftstellerin Natalka Sniadanko schafft Räume zwischen Fakten und Fiktion, die von liebenswert exzentrischen Figuren bevölkert werden. Als Journalistin arbeitet sie u.a. für die Süddeutsche Zeitung, die New York Times und den Guardian. Tanja Dückers, geboren 1968, schreibt Prosa, Lyrik und Essays, Kinderbücher, Theaterstücke und Sachbücher. Sie erfand eine Geheimschrift, ist Mitglied u.a. im PEN Berlin und bei „Weiter Schreiben. Ein Portal für Literatur und Musik aus Krisengebieten“.&lt;/p&gt;
DTSTART:20250122T193000
DTEND:20250122T210000
LOCATION:Aldringenstraße4
ORGANIZER:Tolstoi Hilfs- und Kulturwerk e. V. 
END:VEVENT
END:VCALENDAR