BEGIN:VCALENDAR
VERSION:2.0
PRODID:-//Stadtgeschichte München//DE
CALSCALE:GREGORIAN
BEGIN:VEVENT
UID:25042@stadtgeschichte-muenchen.de
SUMMARY:Die Optimistinnen
DESCRIPTION:&lt;p&gt;Gün Tank eröffnet mit „Die Optimistinnen“ eine neue Perspektive auf die Geschichte der Gastarbeiterinnen. Gemeinsam mit ihrer Mutter Azize Tank präsentiert die Autorin ihr Buch für interessierte Zuhörer*innen und taucht in die spannende Geschichte der Migrantinnen in Deutschland ein.&lt;/p&gt;
DTSTART:20250123T190000
DTEND:20250123T203000
LOCATION:EineWelgHaus München, Schwanthaler Straße 80 RGB
ORGANIZER:Migration macht Gesellschaft e.V.
END:VEVENT
END:VCALENDAR