BEGIN:VCALENDAR
VERSION:2.0
PRODID:-//Stadtgeschichte München//DE
CALSCALE:GREGORIAN
BEGIN:VEVENT
UID:25074@stadtgeschichte-muenchen.de
SUMMARY:Online ins Archiv
DESCRIPTION:&lt;p&gt;Christine Maurer führt die Recherchemöglichkeiten in unserem online-Archivkatalog vor und zeigt die Suche in den digitalisierten Standesamtsunterlagen.&lt;/p&gt;
DTSTART:20250204T183000
DTEND:20250204T193000
LOCATION:
ORGANIZER:Stadtarchiv München
END:VEVENT
END:VCALENDAR