BEGIN:VCALENDAR
VERSION:2.0
PRODID:-//Stadtgeschichte München//DE
CALSCALE:GREGORIAN
BEGIN:VEVENT
UID:25076@stadtgeschichte-muenchen.de
SUMMARY:„Stunde Null?“ Quellen zur Geschichte Münchens in der Nachkriegszeit 
DESCRIPTION:&lt;p&gt;Dr. Daniel Baumann und Anton Löffelmeier M.A. präsentieren aus der umfangreichen Überlieferung des Stadtarchivs zur Nachkriegszeit beispielhafte Bestände und Quellen, städtische Verwaltungsunterlagen wie privates Schriftgut. Sie dokumentieren die Not im zerstörten München, den Wiederaufbau, aber auch politische und gesellschaftliche Kontinuitäten über die „Stunde Null“ hinaus.&lt;/p&gt;
DTSTART:20250515T183000
DTEND:20250515T193000
LOCATION:
ORGANIZER:Stadtarchiv München
END:VEVENT
END:VCALENDAR