BEGIN:VCALENDAR
VERSION:2.0
PRODID:-//Stadtgeschichte München//DE
CALSCALE:GREGORIAN
BEGIN:VEVENT
UID:25078@stadtgeschichte-muenchen.de
SUMMARY:„Das geht auf (k)eine Kuhhaut.“ 
DESCRIPTION:&lt;p&gt;Margaretha Eisenhofer informiert über die Aufbewahrung und Restaurierung von mittelalterlichen Pergamenturkunden. Die Anmeldung ist ab 12. Juni online möglich. Den Link zur Veranstaltung erhalten Sie über unseren Newsletter.&lt;/p&gt;
DTSTART:20250701T183000
DTEND:20250701T193000
LOCATION:Stadtarchiv, Winzererstraße 68, 80797 München, Rotunde
ORGANIZER:Stadtarchiv München
END:VEVENT
END:VCALENDAR