BEGIN:VCALENDAR
VERSION:2.0
PRODID:-//Stadtgeschichte München//DE
CALSCALE:GREGORIAN
BEGIN:VEVENT
UID:25085@stadtgeschichte-muenchen.de
SUMMARY:Tour mit wahren Lügengeschichten (Marienplatz)
DESCRIPTION:&lt;p&gt;&lt;strong&gt;Die Wahrheit ist manchmal merkwürdiger als die fantastischste Lüge. Auf unserer Stadtführung rund um den Marienplatz erfahren Sie Unglaubliches. Doch nicht alles stimmt!&lt;/strong&gt;&lt;/p&gt;&lt;p&gt;Raten Sie, welche Geschichten wahr und welche falsch sind. Am Ende erfahren Sie immer die Wahrheit.&lt;/p&gt;&lt;p&gt;Erleben Sie dabei München aus einer sehr amüsanten Perspektive!&lt;/p&gt;&lt;p&gt;Eine weitere Version der Tour &quot;&lt;i&gt;Des gibt&#039;s doch gar net!&lt;/i&gt;&quot; Oder doch? gibt es rund um den Stachus.&lt;/p&gt;
DTSTART:20250601T160000
DTEND:20250601T173000
LOCATION: Spielzeugmuseum (Turm des Alten Rathauses)
ORGANIZER:STATTreisen München e.V.
END:VEVENT
END:VCALENDAR