BEGIN:VCALENDAR
VERSION:2.0
PRODID:-//Stadtgeschichte München//DE
CALSCALE:GREGORIAN
BEGIN:VEVENT
UID:2524@stadtgeschichte-muenchen.de
SUMMARY:München â€“ wo der Teufel los ist
DESCRIPTION:
DTSTART:20120411T130000
DTEND:20120411T160000
LOCATION:Isartor
ORGANIZER:Mystisches München
END:VEVENT
END:VCALENDAR