BEGIN:VCALENDAR
VERSION:2.0
PRODID:-//Stadtgeschichte München//DE
CALSCALE:GREGORIAN
BEGIN:VEVENT
UID:25374@stadtgeschichte-muenchen.de
SUMMARY: Wir regieren uns selbst, oder?
DESCRIPTION:&lt;p&gt;&lt;strong&gt;Eine Tour zu den demokratischen Orten unserer Stadt.&lt;/strong&gt;&lt;/p&gt;&lt;p&gt;Alle Staatsgewalt geht vom Volke aus, sagt das Grundgesetz. Aber ist Wählengehen alles, was wir tun können? Auf der Tour dürfen Sie aktiv werden:&lt;/p&gt;&lt;p&gt;Lernen Sie einige Regierungsorte kennen, treffen Sie eine echte PolitikerIn, veranstalten Sie eine alternative Oberbürgermeister-Wahl und organisieren Sie sich zur Demonstration. Wir sagen Ihnen, wie&#039;s geht.&lt;/p&gt;
DTSTART:20250509T170000
DTEND:20250509T193000
LOCATION:Spielzeugmuseum (Turm des Alten Rathauses)
ORGANIZER:STATTreisen München e.V.
END:VEVENT
END:VCALENDAR