BEGIN:VCALENDAR
VERSION:2.0
PRODID:-//Stadtgeschichte München//DE
CALSCALE:GREGORIAN
BEGIN:VEVENT
UID:25455@stadtgeschichte-muenchen.de
SUMMARY:Grauslig-greißlichen Geschichten mit den Stadtdetektiven
DESCRIPTION:&lt;p&gt;Eine Tour, die euch noch mehr über die grauslig-greißlichen Ecken von München verrät! Ihr werdet lernen, finstere Zeichen richtig zu deuten; werdet erfahren, was es braucht, um dem Leibhaftigen einen ordentlichen Schrecken zu versetzen; und wer dann noch die Nerven hat, der wird auch noch mit dem schaurigen Handwerk des Henkers vertraut gemacht. Wollt ihr euch noch immer gruseln? Dann kommt’s zur “Grauslig-greißlichen G ‘schichten” – Tour &amp;nbsp;(ab 9 Jahren)&lt;/p&gt;
DTSTART:20250213T140000
DTEND:20250213T160000
LOCATION:Stachus
ORGANIZER:Die Stadtdetektive  - Stadtführungen für Kinder und Erwachsene
END:VEVENT
END:VCALENDAR