BEGIN:VCALENDAR
VERSION:2.0
PRODID:-//Stadtgeschichte München//DE
CALSCALE:GREGORIAN
BEGIN:VEVENT
UID:25458@stadtgeschichte-muenchen.de
SUMMARY:Am alten Platz in neuer Gestalt
DESCRIPTION:&lt;p&gt;Der sogenannte Wiederaufbau „am alten Platz in neuer Gestalt“ stand für Hoffnung, Aufbruch, aber auch für Verpflichtung. „Erbaut in einer Zeit großer innerer und äußerer Not“ sollte das Bayerische Staatsschauspiel „Freude und Besinnung schenken.“ In dem Vortrag werden die gesellschaftspolitischen Dimensionen sowie Narrative von Kontinuität und Neuanfang des Hauses betrachtet.&lt;/p&gt;
DTSTART:20250327T200000
DTEND:20250327T220000
LOCATION:Residenztheater, Zur schönen Aussicht
ORGANIZER:Residenztheater
END:VEVENT
END:VCALENDAR