BEGIN:VCALENDAR
VERSION:2.0
PRODID:-//Stadtgeschichte München//DE
CALSCALE:GREGORIAN
BEGIN:VEVENT
UID:25466@stadtgeschichte-muenchen.de
SUMMARY:Stunde Null?
DESCRIPTION:&lt;p&gt;Die Nachkriegszeit zwischen Kontinuität und Bruch wirkt bis heute nach. Eine lebendige Erinnerungskultur ist für die Hochschule für Musik und Theater München Teil ihres Selbstverständnisses. Der Vortrag von Tobias Reichard stellt aktuelle Ergebnisse aus seinem Forschungsfeld zu Musik von NS-verfolgten Musiker*innen und zu jüdischer Musik im süddeutschen&lt;/p&gt;
DTSTART:20250507T171500
DTEND:20250507T184500
LOCATION:Arcisstraße 12, Raum A 105
ORGANIZER:Hochschule für Musik und Theater München
END:VEVENT
END:VCALENDAR