BEGIN:VCALENDAR
VERSION:2.0
PRODID:-//Stadtgeschichte München//DE
CALSCALE:GREGORIAN
BEGIN:VEVENT
UID:25468@stadtgeschichte-muenchen.de
SUMMARY:DenkMal Dämmerung! – Ein Requiem für den Tucherpark von Sep Ruf!
DESCRIPTION:&lt;p&gt;Eine Inszenierung der Kunst im öffentlichen Raum! Mit Musik, Licht und Texten soll ein vergänglicher Kunstraum in der Architektur, Kunst und Parklandschaft entstehen. Die Bauarbeiten im Tucherpark haben begonnen, verabschieden wir uns bei einem letzten gemeinsamen Spaziergang von diesem Kleinod der Architekturgeschichte, mit einem Requiem (aus den &quot;Lamentationes&quot; von Orlando di Lasso) des Chors vox nova. Bitte Taschenlampen oder Handy mitbringen!&lt;/p&gt;&lt;p&gt;&lt;i&gt;Konzept, Moderation: Claudia Mann, Münchner Forum in Kooperation mit dem Denkmalnetz Bayern&lt;/i&gt;&lt;br&gt;&lt;i&gt;Chor: vox nova, Leitung Christian Seidler, www.voxnova.de&lt;/i&gt;&lt;br&gt;&lt;i&gt;Gäste: Antonia Leitner Bildhauerin, Dr. Stefanje Weinmayr (Referentin bei der Landesstelle für die nichtstaatlichen Museen in Bayern), Otto Wesendonck Bildhauer&lt;/i&gt;&lt;br&gt;&lt;i&gt;Treffpunkt: Am Tucherpark 1,&amp;nbsp;vor der „Großen Torfigur“ von Fritz Koenig Uhrzeit: 18 Uhr&lt;/i&gt;&lt;br&gt;&lt;i&gt;Dauer: ca. 1 Stunde&lt;/i&gt;&lt;/p&gt;&lt;p&gt;Um Anmeldung wird gebeten, unter:&amp;nbsp;veranstaltung@muenchner-forum.de&lt;br&gt;Infotelefon (ab 2h vor Veranstaltungsbeginn): 0157 50103091&lt;/p&gt;&lt;p&gt;&lt;i&gt;Hinweis: Mit der Teilnahme an unseren Veranstaltungen erklären Sie sich mit Foto-, Film- und Tonaufnahmen zu Zwecken der Öffentlichkeitsarbeit einverstanden, soweit Sie im Einzelfall diesen nicht vor Ort widersprechen. Informieren Sie sich gerne über unsere&amp;nbsp;Datenschutzrichtlinien&amp;nbsp;vorab.&lt;/i&gt;&lt;/p&gt;
DTSTART:20250129T180000
DTEND:20250129T190000
LOCATION: Am Tucherpark 1, vor der „Großen Torfigur“ von Fritz Koenig
ORGANIZER:Münchner Forum
END:VEVENT
END:VCALENDAR