BEGIN:VCALENDAR
VERSION:2.0
PRODID:-//Stadtgeschichte München//DE
CALSCALE:GREGORIAN
BEGIN:VEVENT
UID:25478@stadtgeschichte-muenchen.de
SUMMARY:Erinnerungszeichen für Corinna Tartarotti
DESCRIPTION:&lt;p&gt;Am 7. Januar 1984 verübten Rechtsterroristen der „Gruppe Ludwig“ einen Brandanschlag auf die Diskothek Liverpool in München. Acht Menschen wurden teils schwer verletzt. Die junge Münchnerin Corinna Tartarotti verstarb am 27. April 1984 in Folge des Attentats. Insgesamt tötete die „Gruppe Ludwig“ im Zeitraum von 1977 bis 1984 mindestens 15 Menschen und verletzte viele weitere, die meisten in Norditalien.&lt;/p&gt;&lt;p&gt;Zum anstehenden Jahrestag des rechtsterroristischen Brandanschlags setzt die Landeshauptstadt eine Gedenkstele am historischen Ort in der Schillerstraße 11a.&lt;/p&gt;&lt;p&gt;Am Dienstag, den 7. Januar, um 10 Uhr wird Bürgermeisterin Verena Dietl in Vertretung des Oberbürgermeisters im Beisein Angehöriger sprechen. Reden werden auch Aktivist*innen der Antisexistischen Aktion München, die seit mehreren Jahren die öffentliche Erinnerung an den Anschlag wachhalten, sowie Barbara Turczynski-Hartje, Beauftragte gegen Rechtsextremismus des Bezirksausschuss 02 Ludwigsvorstadt-Isarvorstadt.&lt;/p&gt;&lt;p&gt;Ab 19 Uhr lädt das Kulturreferat München, Abteilung Public History zu einer Abendveranstaltung im KÖŞK, Schillerstraße 38. Dort spricht Nicole Lasall, städtische Gleichstellungsbeauftragte zu politisch motivierter Gewalt gegen Frauen*. Im Anschluss hält Monica Zornetta einen Vortrag. Die italienische Journalistin und Autorin spricht über die Rezeption der „Gruppe Ludwig“ und aktuelle Recherchen. Der Vortrag in italienischer Sprache wird simultan auf Deutsch übersetzt.&lt;/p&gt;&lt;p&gt;&lt;br&gt;&amp;nbsp;&lt;/p&gt;
DTSTART:20250107T100000
DTEND:20250107T110000
LOCATION:Schillerstraße 11a (vor dem Club Bad Angel)
ORGANIZER:Public History München
END:VEVENT
END:VCALENDAR