BEGIN:VCALENDAR
VERSION:2.0
PRODID:-//Stadtgeschichte München//DE
CALSCALE:GREGORIAN
BEGIN:VEVENT
UID:25480@stadtgeschichte-muenchen.de
SUMMARY:Vogelwuid – vom Beatles-Konzert 1966 über das Haberfeldtreiben und Münchens Arab-Road zum 
DESCRIPTION:&lt;p&gt;„Stadtspaziergänge“ ohne Sonnenbrand, Regen, Schnee, Hitze oder kalte Füße – dafür informativ und bequem: Diese Vortragsreihe nimmt Sie an Sonntagvormittagen – gänzlich witterungsunabhängig und ganz kommod – mit auf eine kurzweilige Tour durch ausgewählte Kapitel der Münchner Stadtgeschichte. Im Mittelpunkt stehen dabei Ereignisse und Begebenheiten, die viel über München und seine Gesellschaft verraten, im Allgemeinen aber wenig(er) bekannt sind.&lt;/p&gt;
DTSTART:20250209T110000
DTEND:20250209T120000
LOCATION:Bildungszentrum Einsteinstr. 28
ORGANIZER:MVHS
END:VEVENT
END:VCALENDAR