BEGIN:VCALENDAR
VERSION:2.0
PRODID:-//Stadtgeschichte München//DE
CALSCALE:GREGORIAN
BEGIN:VEVENT
UID:25481@stadtgeschichte-muenchen.de
SUMMARY:Die Staatliche Münzsammlung München
DESCRIPTION:&lt;p&gt;Die Staatliche Münzsammlung in der Münchner Residenz ist eine der ältesten und bedeutendsten Sammlungen ihrer Art. Sie geht auf Herzog Albrecht V. (1550-1579) zurück und umfasst heute über 300.000 Objekte. In der Führung wandern Sie durch silberne und goldene Münzen in einer Stunde von der Antike in die Gegenwart und einmal um die ganze Welt. Sie sehen auch Medaillen, Gemmen und die kostbaren Sammlungsschränke der Wittelsbacher. Konservatoren führen durch die Schausammlung und besuchen mit Ihnen die Bibliothek, dort exklusiv aus dem Depot: altes Geld aus China.&lt;/p&gt;
DTSTART:20250114T110000
DTEND:20250114T123000
LOCATION:Staatl. Münzsammlung München, Kassenraum Residenzstr. 1
ORGANIZER:MVHS
END:VEVENT
END:VCALENDAR