BEGIN:VCALENDAR
VERSION:2.0
PRODID:-//Stadtgeschichte München//DE
CALSCALE:GREGORIAN
BEGIN:VEVENT
UID:25532@stadtgeschichte-muenchen.de
SUMMARY:Kompositionen im Schatten der Weltkriege
DESCRIPTION:&lt;p&gt;Drei Werke, die im Schatten der Weltkriege entstanden: Maurice Ravels „Le Tombeau de Couperin“, Francis Poulencs „Figure humaine“ und Frank Martins „In terra pax“. Die Leitung dieses Programms übernimmt der französische Dirigent Alain Altinoglu.&lt;/p&gt;&lt;p&gt;Alain Altinoglu Dirigent&amp;nbsp;&lt;br&gt;Véronique Gens Sopran&amp;nbsp;&lt;br&gt;Nora Gubisch Mezzosopran&amp;nbsp;&lt;br&gt;Julien Dran Tenor&amp;nbsp;&lt;br&gt;Stéphane Degout Bariton&amp;nbsp;&lt;br&gt;Laurent Naouri Bariton&amp;nbsp;&lt;br&gt;Philharmonischer Chor München&lt;/p&gt;
DTSTART:20250418T193000
DTEND:20250418T213000
LOCATION:Isarphilharmonie
ORGANIZER:Münchner Philharmonike
END:VEVENT
END:VCALENDAR