BEGIN:VCALENDAR
VERSION:2.0
PRODID:-//Stadtgeschichte München//DE
CALSCALE:GREGORIAN
BEGIN:VEVENT
UID:25538@stadtgeschichte-muenchen.de
SUMMARY:Gedenkkonzert zum 80. Jahrestag der Befreiung
DESCRIPTION:&lt;p&gt;Am 8. Mai 2025 blicken die Münchner Philharmoniker nicht nur zurück auf den Tag der Befreiung vom nationalsozialistischen Terror, auf das Ende eines grauenvollen Weltkrieges, sondern auch auf den Beginn der Versöhnungsgeschichte zwischen Deutschland und Israel. Aus diesem Anlass lädt das Münchner Orchester Mitglieder des Israel Philharmonic Orchestra ein, dieses Konzertprogramm unter der Leitung von Lahav Shani gemeinsam zu gestalten.&lt;/p&gt;
DTSTART:20250508T193000
DTEND:20250508T213000
LOCATION:Isarphilharmonie
ORGANIZER:Münchner Philharmonike
END:VEVENT
END:VCALENDAR