BEGIN:VCALENDAR
VERSION:2.0
PRODID:-//Stadtgeschichte München//DE
CALSCALE:GREGORIAN
BEGIN:VEVENT
UID:25540@stadtgeschichte-muenchen.de
SUMMARY:In the Mood
DESCRIPTION:&lt;p&gt;Seit dem Einmarsch der US-Truppen in München Anfang Mai 1945 prägten diese maßgeblich die kulturelle Entwicklung, die städtische Identität und die Entwicklung der Unterhaltungsmusik. Präsentiert wird Musik „der frühen Jahre“, ihre Entstehungs- und Wirkungsgeschichte. Literaturbeispiele vermitteln ein Zeitbild der Stadt.&lt;/p&gt;
DTSTART:20250523T193000
DTEND:20250523T220000
LOCATION:Kunstforum Arabellapark, Foyer Rosenkavalierplatz 16
ORGANIZER:MVHS
END:VEVENT
END:VCALENDAR