BEGIN:VCALENDAR
VERSION:2.0
PRODID:-//Stadtgeschichte München//DE
CALSCALE:GREGORIAN
BEGIN:VEVENT
UID:25551@stadtgeschichte-muenchen.de
SUMMARY:Ruinenschleicher und Schachterleis
DESCRIPTION:&lt;p&gt;Wie war es für Kinder und Jugendliche, nach 1945 in einer weitgehend zerstörten Stadt aufzuwachsen? Wie erlebten sie die Schatten der Vergangenheit und die junge Demokratie? 28 Frauen und Männer erzählen … Im Anschluss an den Film Gespräche mit Filmemacher Michael von Ferrari und Gästen.&amp;nbsp;&lt;/p&gt;&lt;p&gt;Im Anschluss Gespräch mit der Zeitzeugin Renate Wirthmann&lt;/p&gt;
DTSTART:20250131T143000
DTEND:20250131T160000
LOCATION:Münchner Volkshochschule in Ramersdorf, Claudius-Keller-Str. 7
ORGANIZER:MVHS
END:VEVENT
END:VCALENDAR