BEGIN:VCALENDAR
VERSION:2.0
PRODID:-//Stadtgeschichte München//DE
CALSCALE:GREGORIAN
BEGIN:VEVENT
UID:25558@stadtgeschichte-muenchen.de
SUMMARY:Lee Miller – Fotografien von Kriegsende, Befreiung und Neubeginn
DESCRIPTION:&lt;p&gt;Eine Ausstellung von Lee Miller zeigt in Fotografien den amerikanischen Blick auf das Ende des Krieges in Europa. Die Kriegsfotografin begleitete amerikanische Soldaten von der Landung in der Normandie bis zur Befreiung des KZ Dachau. Unerschrocken zeigt sie Leid und Zerstörung des Krieges.&lt;/p&gt;
DTSTART:20250131T190000
DTEND:20250131T210000
LOCATION:Amerikahaus 
ORGANIZER:Amerikahaus München
END:VEVENT
END:VCALENDAR