BEGIN:VCALENDAR
VERSION:2.0
PRODID:-//Stadtgeschichte München//DE
CALSCALE:GREGORIAN
BEGIN:VEVENT
UID:25564@stadtgeschichte-muenchen.de
SUMMARY:Little America am Perlacher Forst
DESCRIPTION:&lt;p&gt;Für Beschäftigte der McGraw-Kaserne entstand in einem gerodeten Stück des Perlacher Forsts ab 1954 eine amerikanische Wohnsiedlung. Die Infrastruktur mit Schulzentrum, Kino, Kirche, Sport- und Spielplätzen, Supermarkt und einem hochmodernen Krankenhaus ermöglichte es den ständig wechselnden Bewohnern am Münchner Stadtrand ein typisch amerikanisches Leben zu führen. Auf dem &quot;Little Oktoberfest&quot; erhielt die deutsche Bevölkerung Einblicke in den &quot;American way of life&quot;. Seit dem Abzug der &quot;Amis&quot; im Jahr 1992 unterliegt die Siedlung erheblichen Veränderungen. Anhand von Zeitzeugenberichten und historischen Fotos begeben wir uns im Rahmen der Ausstellung &quot;Amis in der McGraw-Kaserne&quot; auf die Suche nach amerikanischen Spuren.&lt;/p&gt;
DTSTART:20250316T103000
DTEND:20250316T130000
LOCATION:Ecke Lincolnstraße / Cincinnatistraße
ORGANIZER:DGB-Bildungswerk Bayern e.V. Region München
END:VEVENT
END:VCALENDAR