BEGIN:VCALENDAR
VERSION:2.0
PRODID:-//Stadtgeschichte München//DE
CALSCALE:GREGORIAN
BEGIN:VEVENT
UID:25565@stadtgeschichte-muenchen.de
SUMMARY:Alles hat seine Zeit
DESCRIPTION:&lt;p&gt;Das Bestattungsinstitut AETAS Lebens- und Trauerkultur hat seinen Sitz am Münchner Westfriedhof. Hier wurde das Bestattungswesen neu gedacht. Während dieser einschneidenden Lebenssituation wird viel Raum und Zeit zum Trauern ermöglicht. Die individuellen Bedürfnisse beim Abschiednehmen werden unterstützt und begleitet. Darüber hinaus ist AETAS ein Ort für Seminare zur Lebens- und Trauerkultur und bietet zudem eine Ausbildung zur Trauerbegleitung an. Bei dieser Führung lernen Sie das Besondere dieses Hauses und sein dahinterstehendes Konzept näher kennen.&lt;/p&gt;
DTSTART:20250114T170000
DTEND:20250114T183000
LOCATION:AETAS Lebens- und Trauerkultur GmbH, Baldurstr. 39
ORGANIZER:DGB-Bildungswerk Bayern e.V. Region München
END:VEVENT
END:VCALENDAR