BEGIN:VCALENDAR
VERSION:2.0
PRODID:-//Stadtgeschichte München//DE
CALSCALE:GREGORIAN
BEGIN:VEVENT
UID:2561@stadtgeschichte-muenchen.de
SUMMARY:Die Amalienburg
DESCRIPTION:
DTSTART:20120515T163000
DTEND:20120515T000000
LOCATION:Museumsladen Schloss Nymphenburg
ORGANIZER:Bayerische Schlösserverwaltung
END:VEVENT
END:VCALENDAR