BEGIN:VCALENDAR
VERSION:2.0
PRODID:-//Stadtgeschichte München//DE
CALSCALE:GREGORIAN
BEGIN:VEVENT
UID:25623@stadtgeschichte-muenchen.de
SUMMARY:Vom Alten Botanischen Garten zum Promenadeplatz
DESCRIPTION:&lt;p&gt;Auf diesem Rundgang entdecken wir, wie grün München am Rande des ersten Mauerrings ist, werfen einen kritischen Blick auf die Lenbachgärten und besuchen die Grablege Ludwigs I. und seiner Frau Therese. Wir überqueren die Maximiliansanlagen, bevor wir über die ehemalige Salzstädelgasse promenieren. Unterwegs werden Sie mit den historischen und für die Stadtentwicklung relevanten Informationen versorgt. Neben dem Besuch von St. Bonifaz lädt der Rundgang, dazu ein, abseits der üblichen Wege, einen Blick auf die vergangene und aktuelle Stadtentwicklung zu werfen.&lt;/p&gt;
DTSTART:20250425T100000
DTEND:20250425T120000
LOCATION:Am Neptunbrunnen im Alten Botanischen Garten
ORGANIZER:DGB-Bildungswerk Bayern e.V. Region München
END:VEVENT
END:VCALENDAR