BEGIN:VCALENDAR
VERSION:2.0
PRODID:-//Stadtgeschichte München//DE
CALSCALE:GREGORIAN
BEGIN:VEVENT
UID:25641@stadtgeschichte-muenchen.de
SUMMARY:Die Wasservögel im Westpark
DESCRIPTION:&lt;p&gt;Eine Vielzahl von Wasservögeln sind im Westpark anzutreffen. Wir beobachten die Gänse und das Treiben anderer Wasservögel zur Brutzeit und erläutern ihr unterschiedliches Verhalten. Dabei begegnen uns auch andere &quot;Wassertiere&quot; und der erste Nachwuchs.&lt;br&gt;Sofern vorhanden bitte Fernglas mitbringen.&lt;/p&gt;
DTSTART:20250518T110000
DTEND:20250518T130000
LOCATION:Westpark, Westteil, am See unterhalb des Rosengartens
ORGANIZER:DGB-Bildungswerk Bayern e.V. Region München
END:VEVENT
END:VCALENDAR