BEGIN:VCALENDAR
VERSION:2.0
PRODID:-//Stadtgeschichte München//DE
CALSCALE:GREGORIAN
BEGIN:VEVENT
UID:25656@stadtgeschichte-muenchen.de
SUMMARY:Demokratie 2025 - wie kann ich mich beteiligen?
DESCRIPTION:&lt;p&gt;Demokratie heißt, sich in die eigenen Angelegenheiten einzumischen, schrieb Max Frisch. Ist Wählengehen alles, was wir tun können? Auf keinen Fall. Die zweistündige Tour führt uns an Regierungsorte und klärt interaktiv auf über unsere vielen Möglichkeiten, mit-zuwirken. Wir sehen Politiker:innen bei ihrer Arbeit im Parlament zu, erfahren wie wir unsere eigene Demonstration organisieren können.&lt;/p&gt;
DTSTART:20250603T140000
DTEND:20250603T160000
LOCATION:Marienplatz, am Spielzeugmuseum im Turm des Alten Rathauses
ORGANIZER:DGB-Bildungswerk Bayern e.V. Region München
END:VEVENT
END:VCALENDAR