BEGIN:VCALENDAR
VERSION:2.0
PRODID:-//Stadtgeschichte München//DE
CALSCALE:GREGORIAN
BEGIN:VEVENT
UID:25659@stadtgeschichte-muenchen.de
SUMMARY:Herbert List, Memento 1945. Münchner Ruinen.
DESCRIPTION:&lt;p&gt;Zwischen 1945 und 1949 fotografierte Herbert List (1903 – 1975) das zerstörte München in ungewöhnlich künstlerischen Trümmerbildern, die am Pariser Surrealismus und den klassisch-antiken Ruinen Griechenlands geschult sind. Der Zyklus wurde in den 1960er Jahren für das Münchner Stadtmuseum angekauft, lange bevor Lists Nachlass in die Sammlung Fotografie einging. Aus Anlass des 80-jährigen Endes des Zweiten Weltkriegs wird der Bestandskatalog dieses wichtigen Werkkomplexes nun in veränderter Form neu aufgelegt.&lt;/p&gt;
DTSTART:20250505T190000
DTEND:20250505T203000
LOCATION:Amerikahaus Karolinenplatz 3
ORGANIZER:Münchner Stadtmuseum
END:VEVENT
END:VCALENDAR