BEGIN:VCALENDAR
VERSION:2.0
PRODID:-//Stadtgeschichte München//DE
CALSCALE:GREGORIAN
BEGIN:VEVENT
UID:25665@stadtgeschichte-muenchen.de
SUMMARY:Der Schwarzmarkt in der Möhlstraße
DESCRIPTION:&lt;p&gt;Nach dem Einmarsch der Amerikaner in München und der Beschlagnahmung und Nutzung vieler Gebäude in vielen Stadtteilen Münchens, insbesondere in Alt-Bogenhausen entstand hier der größte Schwarzmarkt in München. Zur Versorgung der Münchner Bevölkerung war der boomende Handel in diesem Bereich teilweise stillschweigend geduldet, aber auch berüchtigt und einigen polizeilichen Razzien ausgesetzt. Wo es begann, welchen Umfang dieser Schwarzmarkt hatte und wie er endete wollen wir uns vor Ort ansehen.&lt;/p&gt;
DTSTART:20250216T110000
DTEND:20250216T120000
LOCATION:Ecke Möhlstr./Höchlstraße
ORGANIZER:MVHS
END:VEVENT
END:VCALENDAR