BEGIN:VCALENDAR
VERSION:2.0
PRODID:-//Stadtgeschichte München//DE
CALSCALE:GREGORIAN
BEGIN:VEVENT
UID:25683@stadtgeschichte-muenchen.de
SUMMARY:American Housing – die Air-Force-Siedlung in Ramersdorf
DESCRIPTION:&lt;p&gt;1949/50 entstanden in Ramersdorf 500 Wohnungen für das amerikanische Air-Force-Personal, das die Berliner Luftbrücke bediente. Die Führung zeigt die Siedlung, ihre aktuelle und künftige Nutzung und ihre spannende Nachbarschaft - Wohnsiedlungen und Gewerbebauten der 1910er bis 1960er Jahre.&lt;/p&gt;&lt;p&gt;&amp;nbsp;&lt;/p&gt;&lt;p&gt;&amp;nbsp;&lt;/p&gt;
DTSTART:20250511T143000
DTEND:20250511T163000
LOCATION:MVHS in Ramersdorf, Foyer Claudius-Keller-Str. 7
ORGANIZER:MVHS
END:VEVENT
END:VCALENDAR