BEGIN:VCALENDAR
VERSION:2.0
PRODID:-//Stadtgeschichte München//DE
CALSCALE:GREGORIAN
BEGIN:VEVENT
UID:25706@stadtgeschichte-muenchen.de
SUMMARY:Die künstlerische Orientierungssuche bei Rupprecht Geiger
DESCRIPTION:&lt;p&gt;Katja Sebald spricht über die Künstlergruppe „Zen 49“ und deren Ziele. Da Rupprecht Geiger nicht nur Gründungsmitglied, sondern auch Sekretär dieser Künstlervereinigung war, werden dabei originale Archivalien aus dem Archiv-Depot vorgestellt.&lt;/p&gt;
DTSTART:20250318T183000
DTEND:20250318T200000
LOCATION:Archiv Geiger, Muttenthalerstraße 26
ORGANIZER:Archiv Geiger GbR
END:VEVENT
END:VCALENDAR