BEGIN:VCALENDAR
VERSION:2.0
PRODID:-//Stadtgeschichte München//DE
CALSCALE:GREGORIAN
BEGIN:VEVENT
UID:25707@stadtgeschichte-muenchen.de
SUMMARY:Ein Haus ohne Mauern bauen
DESCRIPTION:&lt;p&gt;Hêlîn Alas, Ina Ettlinger, Dani Gal, Thomas Galler, Mariella Maier, Cora Piantoni, Beo Tomek &amp;amp; Caroline Kapp, Christoph Westermeier&lt;/p&gt;&lt;p&gt;Die Ausstellung versammelt Arbeiten von neun Künstler*innen, die in Archiven und Sammlungen zu München nach 1945 geforscht haben. Der Blick der Künstler*innen auf Fotos, Protokolle, Magazine und Berichte von Zeitzeug*innen eröffnet vielfältige Perspektiven auf den baulichen und gesellschaftlichen Wiederaufbau. Die Bedeutung der Nachkriegszeit für unsere Gegenwart wird mit Themen wie dem Leben von Frauen, neuen Orten der Zusammenkunft, dem Auftreten von Autoritäten und pädagogischen Konzepten der Re-Education in Installationen, Filmen und Collagen lebendig.&amp;nbsp;&lt;/p&gt;
DTSTART:20250322T190000
DTEND:20250322T200000
LOCATION:Amerikahaus Karolinenplatz 3
ORGANIZER:Amerikahaus München
END:VEVENT
END:VCALENDAR